BEGIN:VCALENDAR
VERSION:2.0
PRODID:JMS Hockey
X-PUBLISHED-TTL:P1W
BEGIN:VEVENT
UID:69e7f0102dc24
DTSTART:20100504T023000Z
SEQUENCE:0
TRANSP:OPAQUE
DTEND:20100504T040000Z
URL:http://jmshockey.com/games/1470
LOCATION:Breck Anderson Arena
SUMMARY:Level 4 Game at Breck Anderson Arena
CLASS:PUBLIC
DTSTAMP:20260421T164552Z
END:VEVENT
END:VCALENDAR