BEGIN:VCALENDAR
VERSION:2.0
PRODID:JMS Hockey
X-PUBLISHED-TTL:P1W
BEGIN:VEVENT
UID:69e7d4d96ee9c
DTSTART:20100501T023000Z
SEQUENCE:0
TRANSP:OPAQUE
DTEND:20100501T040000Z
URL:http://jmshockey.com/games/1467
LOCATION:New Hope Ice Arena
SUMMARY:Level 3 Game at New Hope Ice Arena
CLASS:PUBLIC
DTSTAMP:20260421T144945Z
END:VEVENT
END:VCALENDAR