BEGIN:VCALENDAR
VERSION:2.0
PRODID:JMS Hockey
X-PUBLISHED-TTL:P1W
BEGIN:VEVENT
UID:69e778debfbf4
DTSTART:20230731T011500Z
SEQUENCE:0
TRANSP:OPAQUE
DTEND:20230731T024500Z
URL:http://jmshockey.com/games/14659
LOCATION:Roseville Skating Center
SUMMARY:All level Game at Roseville Skating Center
CLASS:PUBLIC
DTSTAMP:20260421T081718Z
END:VEVENT
END:VCALENDAR