BEGIN:VCALENDAR
VERSION:2.0
PRODID:JMS Hockey
X-PUBLISHED-TTL:P1W
BEGIN:VEVENT
UID:69e7a7a40fca5
DTSTART:20230804T010000Z
SEQUENCE:0
TRANSP:OPAQUE
DTEND:20230804T023000Z
URL:http://jmshockey.com/games/14562
LOCATION:St Thomas Ice Arena
SUMMARY:Upper Level Game at St Thomas Ice Arena
CLASS:PUBLIC
DTSTAMP:20260421T113652Z
END:VEVENT
END:VCALENDAR