BEGIN:VCALENDAR
VERSION:2.0
PRODID:JMS Hockey
X-PUBLISHED-TTL:P1W
BEGIN:VEVENT
UID:69e7adcc357e9
DTSTART:20100427T023000Z
SEQUENCE:0
TRANSP:OPAQUE
DTEND:20100427T040000Z
URL:http://jmshockey.com/games/1452
LOCATION:Roseville Skating Center
SUMMARY:Level 3 Game at Roseville Skating Center
CLASS:PUBLIC
DTSTAMP:20260421T120308Z
END:VEVENT
END:VCALENDAR