BEGIN:VCALENDAR
VERSION:2.0
PRODID:JMS Hockey
X-PUBLISHED-TTL:P1W
BEGIN:VEVENT
UID:69e7b59f8dca8
DTSTART:20100424T001500Z
SEQUENCE:0
TRANSP:OPAQUE
DTEND:20100424T014500Z
URL:http://jmshockey.com/games/1447
LOCATION:Braemar Arena
SUMMARY:Level 1 Game at Braemar Arena
CLASS:PUBLIC
DTSTAMP:20260421T123631Z
END:VEVENT
END:VCALENDAR