BEGIN:VCALENDAR
VERSION:2.0
PRODID:JMS Hockey
X-PUBLISHED-TTL:P1W
BEGIN:VEVENT
UID:69e7d88f12cd4
DTSTART:20100424T021500Z
SEQUENCE:0
TRANSP:OPAQUE
DTEND:20100424T034500Z
URL:http://jmshockey.com/games/1446
LOCATION:Eden Prairie Comm Ctr
SUMMARY:Level 3 Game at Eden Prairie Comm Ctr
CLASS:PUBLIC
DTSTAMP:20260421T150535Z
END:VEVENT
END:VCALENDAR