BEGIN:VCALENDAR
VERSION:2.0
PRODID:JMS Hockey
X-PUBLISHED-TTL:P1W
BEGIN:VEVENT
UID:69e783d608711
DTSTART:20230415T020000Z
SEQUENCE:0
TRANSP:OPAQUE
DTEND:20230415T033000Z
URL:http://jmshockey.com/games/14452
LOCATION:Eden Prairie Comm Ctr
SUMMARY:Intermediate Game at Eden Prairie Comm Ctr
CLASS:PUBLIC
DTSTAMP:20260421T090406Z
END:VEVENT
END:VCALENDAR