BEGIN:VCALENDAR
VERSION:2.0
PRODID:JMS Hockey
X-PUBLISHED-TTL:P1W
BEGIN:VEVENT
UID:69e774c97b320
DTSTART:20230327T013000Z
SEQUENCE:0
TRANSP:OPAQUE
DTEND:20230327T023000Z
URL:http://jmshockey.com/games/14444
LOCATION:Roseville Skating Center
SUMMARY:All level Game at Roseville Skating Center
CLASS:PUBLIC
DTSTAMP:20260421T075953Z
END:VEVENT
END:VCALENDAR