BEGIN:VCALENDAR
VERSION:2.0
PRODID:JMS Hockey
X-PUBLISHED-TTL:P1W
BEGIN:VEVENT
UID:69e7c3a6cdd04
DTSTART:20100424T014500Z
SEQUENCE:0
TRANSP:OPAQUE
DTEND:20100424T031500Z
URL:http://jmshockey.com/games/1442
LOCATION:St Louis Park Rec Center
SUMMARY:Level 2 Game at St Louis Park Rec Center
CLASS:PUBLIC
DTSTAMP:20260421T133622Z
END:VEVENT
END:VCALENDAR