BEGIN:VCALENDAR
VERSION:2.0
PRODID:JMS Hockey
X-PUBLISHED-TTL:P1W
BEGIN:VEVENT
UID:69e7f8c3dc4ff
DTSTART:20100422T024500Z
SEQUENCE:0
TRANSP:OPAQUE
DTEND:20100422T041500Z
URL:http://jmshockey.com/games/1441
LOCATION:Bloomington Ice Gardens
SUMMARY:Level 4 Game at Bloomington Ice Gardens
CLASS:PUBLIC
DTSTAMP:20260421T172259Z
END:VEVENT
END:VCALENDAR