BEGIN:VCALENDAR
VERSION:2.0
PRODID:JMS Hockey
X-PUBLISHED-TTL:P1W
BEGIN:VEVENT
UID:69e88dbd088e2
DTSTART:20081114T033000Z
SEQUENCE:0
TRANSP:OPAQUE
DTEND:20081114T050000Z
URL:http://jmshockey.com/games/144
LOCATION:Breck Anderson Arena
SUMMARY:Level 5 Game at Breck Anderson Arena
CLASS:PUBLIC
DTSTAMP:20260422T035837Z
END:VEVENT
END:VCALENDAR