BEGIN:VCALENDAR
VERSION:2.0
PRODID:JMS Hockey
X-PUBLISHED-TTL:P1W
BEGIN:VEVENT
UID:69e73a7ce9f21
DTSTART:20230511T013000Z
SEQUENCE:0
TRANSP:OPAQUE
DTEND:20230511T030000Z
URL:http://jmshockey.com/games/14379
LOCATION:Polar Arena
SUMMARY:Lower Level Game at Polar Arena
CLASS:PUBLIC
DTSTAMP:20260421T035108Z
END:VEVENT
END:VCALENDAR