BEGIN:VCALENDAR
VERSION:2.0
PRODID:JMS Hockey
X-PUBLISHED-TTL:P1W
BEGIN:VEVENT
UID:69e77b2983dce
DTSTART:20230130T023000Z
SEQUENCE:0
TRANSP:OPAQUE
DTEND:20230130T033000Z
URL:http://jmshockey.com/games/14354
LOCATION:Roseville Skating Center
SUMMARY:All level Game at Roseville Skating Center
CLASS:PUBLIC
DTSTAMP:20260421T082705Z
END:VEVENT
END:VCALENDAR