BEGIN:VCALENDAR
VERSION:2.0
PRODID:JMS Hockey
X-PUBLISHED-TTL:P1W
BEGIN:VEVENT
UID:69e7ade8832b6
DTSTART:20230127T033000Z
SEQUENCE:0
TRANSP:OPAQUE
DTEND:20230127T050000Z
URL:http://jmshockey.com/games/14306
LOCATION:St Thomas Ice Arena
SUMMARY:All level Game at St Thomas Ice Arena
CLASS:PUBLIC
DTSTAMP:20260421T120336Z
END:VEVENT
END:VCALENDAR