BEGIN:VCALENDAR
VERSION:2.0
PRODID:JMS Hockey
X-PUBLISHED-TTL:P1W
BEGIN:VEVENT
UID:69e7dd853ccb4
DTSTART:20100417T021500Z
SEQUENCE:0
TRANSP:OPAQUE
DTEND:20100417T034500Z
URL:http://jmshockey.com/games/1429
LOCATION:Richfield Ice Arena
SUMMARY:Level 3 Game at Richfield Ice Arena
CLASS:PUBLIC
DTSTAMP:20260421T152645Z
END:VEVENT
END:VCALENDAR