BEGIN:VCALENDAR
VERSION:2.0
PRODID:JMS Hockey
X-PUBLISHED-TTL:P1W
BEGIN:VEVENT
UID:69e7a3db553c4
DTSTART:20230211T030000Z
SEQUENCE:0
TRANSP:OPAQUE
DTEND:20230211T043000Z
URL:http://jmshockey.com/games/14287
LOCATION:Eden Prairie Comm Ctr
SUMMARY:Intermediate Game at Eden Prairie Comm Ctr
CLASS:PUBLIC
DTSTAMP:20260421T112043Z
END:VEVENT
END:VCALENDAR