BEGIN:VCALENDAR
VERSION:2.0
PRODID:JMS Hockey
X-PUBLISHED-TTL:P1W
BEGIN:VEVENT
UID:69e7c3ab2c35a
DTSTART:20100417T011000Z
SEQUENCE:0
TRANSP:OPAQUE
DTEND:20100417T024000Z
URL:http://jmshockey.com/games/1428
LOCATION:Minnesota Made
SUMMARY:Level 2 Game at Minnesota Made
CLASS:PUBLIC
DTSTAMP:20260421T133627Z
END:VEVENT
END:VCALENDAR