BEGIN:VCALENDAR
VERSION:2.0
PRODID:JMS Hockey
X-PUBLISHED-TTL:P1W
BEGIN:VEVENT
UID:69e7a3e33833e
DTSTART:20230208T031500Z
SEQUENCE:0
TRANSP:OPAQUE
DTEND:20230208T044500Z
URL:http://jmshockey.com/games/14273
LOCATION:Eden Prairie Comm Ctr
SUMMARY:Upper Level Game at Eden Prairie Comm Ctr
CLASS:PUBLIC
DTSTAMP:20260421T112051Z
END:VEVENT
END:VCALENDAR