BEGIN:VCALENDAR
VERSION:2.0
PRODID:JMS Hockey
X-PUBLISHED-TTL:P1W
BEGIN:VEVENT
UID:69e7a7cb32533
DTSTART:20221231T034500Z
SEQUENCE:0
TRANSP:OPAQUE
DTEND:20221231T051500Z
URL:http://jmshockey.com/games/14244
LOCATION:St Louis Park Rec Center
SUMMARY:Lower Level Game at St Louis Park Rec Center
CLASS:PUBLIC
DTSTAMP:20260421T113731Z
END:VEVENT
END:VCALENDAR