BEGIN:VCALENDAR
VERSION:2.0
PRODID:JMS Hockey
X-PUBLISHED-TTL:P1W
BEGIN:VEVENT
UID:69e7b9b6d87ea
DTSTART:20100416T024000Z
SEQUENCE:0
TRANSP:OPAQUE
DTEND:20100416T041000Z
URL:http://jmshockey.com/games/1421
LOCATION:St Thomas Ice Arena
SUMMARY:Level 4 Game at St Thomas Ice Arena
CLASS:PUBLIC
DTSTAMP:20260421T125358Z
END:VEVENT
END:VCALENDAR