BEGIN:VCALENDAR
VERSION:2.0
PRODID:JMS Hockey
X-PUBLISHED-TTL:P1W
BEGIN:VEVENT
UID:69e7963328d56
DTSTART:20221214T033000Z
SEQUENCE:0
TRANSP:OPAQUE
DTEND:20221214T050000Z
URL:http://jmshockey.com/games/14170
LOCATION:Apple Valley Sports Arena
SUMMARY:Lower Level Game at Apple Valley Sports Arena
CLASS:PUBLIC
DTSTAMP:20260421T102227Z
END:VEVENT
END:VCALENDAR