BEGIN:VCALENDAR
VERSION:2.0
PRODID:JMS Hockey
X-PUBLISHED-TTL:P1W
BEGIN:VEVENT
UID:69e7d52da24ed
DTSTART:20100414T023000Z
SEQUENCE:0
TRANSP:OPAQUE
DTEND:20100414T040000Z
URL:http://jmshockey.com/games/1417
LOCATION:Fogerty Icehouse
SUMMARY:Level 3 Game at Fogerty Icehouse
CLASS:PUBLIC
DTSTAMP:20260421T145109Z
END:VEVENT
END:VCALENDAR