BEGIN:VCALENDAR
VERSION:2.0
PRODID:JMS Hockey
X-PUBLISHED-TTL:P1W
BEGIN:VEVENT
UID:69e7c168f1a1b
DTSTART:20100413T020000Z
SEQUENCE:0
TRANSP:OPAQUE
DTEND:20100413T033000Z
URL:http://jmshockey.com/games/1415
LOCATION:Augsburg
SUMMARY:Level 1 Game at Augsburg
CLASS:PUBLIC
DTSTAMP:20260421T132648Z
END:VEVENT
END:VCALENDAR