BEGIN:VCALENDAR
VERSION:2.0
PRODID:JMS Hockey
X-PUBLISHED-TTL:P1W
BEGIN:VEVENT
UID:69e79dc33fc53
DTSTART:20220917T021500Z
SEQUENCE:0
TRANSP:OPAQUE
DTEND:20220917T034500Z
URL:http://jmshockey.com/games/14093
LOCATION:Roseville Skating Center
SUMMARY:Lower Level Game at Roseville Skating Center
CLASS:PUBLIC
DTSTAMP:20260421T105443Z
END:VEVENT
END:VCALENDAR