BEGIN:VCALENDAR
VERSION:2.0
PRODID:JMS Hockey
X-PUBLISHED-TTL:P1W
BEGIN:VEVENT
UID:69e7d52082388
DTSTART:20220720T011500Z
SEQUENCE:0
TRANSP:OPAQUE
DTEND:20220720T024500Z
URL:http://jmshockey.com/games/14036
LOCATION:Maple Grove
SUMMARY:Intermediate Game at Maple Grove
CLASS:PUBLIC
DTSTAMP:20260421T145056Z
END:VEVENT
END:VCALENDAR