BEGIN:VCALENDAR
VERSION:2.0
PRODID:JMS Hockey
X-PUBLISHED-TTL:P1W
BEGIN:VEVENT
UID:69e7b76d45cd2
DTSTART:20220831T020000Z
SEQUENCE:0
TRANSP:OPAQUE
DTEND:20220831T033000Z
URL:http://jmshockey.com/games/14034
LOCATION:Eden Prairie Comm Ctr
SUMMARY:Upper Level Game at Eden Prairie Comm Ctr
CLASS:PUBLIC
DTSTAMP:20260421T124413Z
END:VEVENT
END:VCALENDAR