BEGIN:VCALENDAR
VERSION:2.0
PRODID:JMS Hockey
X-PUBLISHED-TTL:P1W
BEGIN:VEVENT
UID:69e842f2e22fb
DTSTART:20100406T023000Z
SEQUENCE:0
TRANSP:OPAQUE
DTEND:20100406T040000Z
URL:http://jmshockey.com/games/1399
LOCATION:Breck Anderson Arena
SUMMARY:Level 5 Game at Breck Anderson Arena
CLASS:PUBLIC
DTSTAMP:20260421T223930Z
END:VEVENT
END:VCALENDAR