BEGIN:VCALENDAR
VERSION:2.0
PRODID:JMS Hockey
X-PUBLISHED-TTL:P1W
BEGIN:VEVENT
UID:69e78e17082e1
DTSTART:20220720T010000Z
SEQUENCE:0
TRANSP:OPAQUE
DTEND:20220720T023000Z
URL:http://jmshockey.com/games/13973
LOCATION:Eden Prairie Comm Ctr
SUMMARY:Upper Level Game at Eden Prairie Comm Ctr
CLASS:PUBLIC
DTSTAMP:20260421T094751Z
END:VEVENT
END:VCALENDAR