BEGIN:VCALENDAR
VERSION:2.0
PRODID:JMS Hockey
X-PUBLISHED-TTL:P1W
BEGIN:VEVENT
UID:69e765b99abe4
DTSTART:20220727T020000Z
SEQUENCE:0
TRANSP:OPAQUE
DTEND:20220727T033000Z
URL:http://jmshockey.com/games/13966
LOCATION:Eden Prairie Comm Ctr
SUMMARY:Upper Level Game at Eden Prairie Comm Ctr
CLASS:PUBLIC
DTSTAMP:20260421T065537Z
END:VEVENT
END:VCALENDAR