BEGIN:VCALENDAR
VERSION:2.0
PRODID:JMS Hockey
X-PUBLISHED-TTL:P1W
BEGIN:VEVENT
UID:69e7d4864e091
DTSTART:20220603T030000Z
SEQUENCE:0
TRANSP:OPAQUE
DTEND:20220603T043000Z
URL:http://jmshockey.com/games/13954
LOCATION:St Thomas Ice Arena
SUMMARY:All level Game at St Thomas Ice Arena
CLASS:PUBLIC
DTSTAMP:20260421T144822Z
END:VEVENT
END:VCALENDAR