BEGIN:VCALENDAR
VERSION:2.0
PRODID:JMS Hockey
X-PUBLISHED-TTL:P1W
BEGIN:VEVENT
UID:69e7e14288582
DTSTART:20100403T013000Z
SEQUENCE:0
TRANSP:OPAQUE
DTEND:20100403T030000Z
URL:http://jmshockey.com/games/1395
LOCATION:Eden Prairie Comm Ctr
SUMMARY:Level 3 Game at Eden Prairie Comm Ctr
CLASS:PUBLIC
DTSTAMP:20260421T154242Z
END:VEVENT
END:VCALENDAR