BEGIN:VCALENDAR
VERSION:2.0
PRODID:JMS Hockey
X-PUBLISHED-TTL:P1W
BEGIN:VEVENT
UID:69e7c94161191
DTSTART:20220806T011500Z
SEQUENCE:0
TRANSP:OPAQUE
DTEND:20220806T024500Z
URL:http://jmshockey.com/games/13942
LOCATION:Roseville Skating Center
SUMMARY:Lower Level Game at Roseville Skating Center
CLASS:PUBLIC
DTSTAMP:20260421T140017Z
END:VEVENT
END:VCALENDAR