BEGIN:VCALENDAR
VERSION:2.0
PRODID:JMS Hockey
X-PUBLISHED-TTL:P1W
BEGIN:VEVENT
UID:69e7c16698f13
DTSTART:20100401T001500Z
SEQUENCE:0
TRANSP:OPAQUE
DTEND:20100401T014500Z
URL:http://jmshockey.com/games/1389
LOCATION:Bloomington Ice Gardens
SUMMARY:Level 2 Game at Bloomington Ice Gardens
CLASS:PUBLIC
DTSTAMP:20260421T132646Z
END:VEVENT
END:VCALENDAR