BEGIN:VCALENDAR
VERSION:2.0
PRODID:JMS Hockey
X-PUBLISHED-TTL:P1W
BEGIN:VEVENT
UID:69e8678137e43
DTSTART:20100331T023000Z
SEQUENCE:0
TRANSP:OPAQUE
DTEND:20100331T040000Z
URL:http://jmshockey.com/games/1385
LOCATION:St Louis Park Rec Center
SUMMARY:Level 4 Game at St Louis Park Rec Center
CLASS:PUBLIC
DTSTAMP:20260422T011529Z
END:VEVENT
END:VCALENDAR