BEGIN:VCALENDAR
VERSION:2.0
PRODID:JMS Hockey
X-PUBLISHED-TTL:P1W
BEGIN:VEVENT
UID:69e7bfc07c712
DTSTART:20100327T014500Z
SEQUENCE:0
TRANSP:OPAQUE
DTEND:20100327T031500Z
URL:http://jmshockey.com/games/1375
LOCATION:Bloomington Ice Gardens
SUMMARY:Level 2 Game at Bloomington Ice Gardens
CLASS:PUBLIC
DTSTAMP:20260421T131944Z
END:VEVENT
END:VCALENDAR