BEGIN:VCALENDAR
VERSION:2.0
PRODID:JMS Hockey
X-PUBLISHED-TTL:P1W
BEGIN:VEVENT
UID:69e78801da16d
DTSTART:20220507T024500Z
SEQUENCE:0
TRANSP:OPAQUE
DTEND:20220507T041500Z
URL:http://jmshockey.com/games/13726
LOCATION:St Louis Park Rec Center
SUMMARY:Lower Level Game at St Louis Park Rec Center
CLASS:PUBLIC
DTSTAMP:20260421T092153Z
END:VEVENT
END:VCALENDAR