BEGIN:VCALENDAR
VERSION:2.0
PRODID:JMS Hockey
X-PUBLISHED-TTL:P1W
BEGIN:VEVENT
UID:69e79630254d1
DTSTART:20220326T020000Z
SEQUENCE:0
TRANSP:OPAQUE
DTEND:20220326T033000Z
URL:http://jmshockey.com/games/13719
LOCATION:St Louis Park Rec Center
SUMMARY:Lower Level Game at St Louis Park Rec Center
CLASS:PUBLIC
DTSTAMP:20260421T102224Z
END:VEVENT
END:VCALENDAR