BEGIN:VCALENDAR
VERSION:2.0
PRODID:JMS Hockey
X-PUBLISHED-TTL:P1W
BEGIN:VEVENT
UID:69e7cbaab8510
DTSTART:20220205T031500Z
SEQUENCE:0
TRANSP:OPAQUE
DTEND:20220205T044500Z
URL:http://jmshockey.com/games/13713
LOCATION:St Louis Park Rec Center
SUMMARY:Lower Level Game at St Louis Park Rec Center
CLASS:PUBLIC
DTSTAMP:20260421T141034Z
END:VEVENT
END:VCALENDAR