BEGIN:VCALENDAR
VERSION:2.0
PRODID:JMS Hockey
X-PUBLISHED-TTL:P1W
BEGIN:VEVENT
UID:69e7b34b62ee8
DTSTART:20100327T013000Z
SEQUENCE:0
TRANSP:OPAQUE
DTEND:20100327T030000Z
URL:http://jmshockey.com/games/1371
LOCATION:St Louis Park Rec Center
SUMMARY:Level 1 Game at St Louis Park Rec Center
CLASS:PUBLIC
DTSTAMP:20260421T122635Z
END:VEVENT
END:VCALENDAR