BEGIN:VCALENDAR
VERSION:2.0
PRODID:JMS Hockey
X-PUBLISHED-TTL:P1W
BEGIN:VEVENT
UID:69e787b120062
DTSTART:20220204T033000Z
SEQUENCE:0
TRANSP:OPAQUE
DTEND:20220204T050000Z
URL:http://jmshockey.com/games/13706
LOCATION:Apple Valley Sports Arena
SUMMARY:Intermediate Game at Apple Valley Sports Arena
CLASS:PUBLIC
DTSTAMP:20260421T092033Z
END:VEVENT
END:VCALENDAR