BEGIN:VCALENDAR
VERSION:2.0
PRODID:JMS Hockey
X-PUBLISHED-TTL:P1W
BEGIN:VEVENT
UID:69e7bfc158beb
DTSTART:20100324T004500Z
SEQUENCE:0
TRANSP:OPAQUE
DTEND:20100324T021500Z
URL:http://jmshockey.com/games/1368
LOCATION:Breck Anderson Arena
SUMMARY:Level 2 Game at Breck Anderson Arena
CLASS:PUBLIC
DTSTAMP:20260421T131945Z
END:VEVENT
END:VCALENDAR