BEGIN:VCALENDAR
VERSION:2.0
PRODID:JMS Hockey
X-PUBLISHED-TTL:P1W
BEGIN:VEVENT
UID:69e789b57d3e6
DTSTART:20220212T030000Z
SEQUENCE:0
TRANSP:OPAQUE
DTEND:20220212T043000Z
URL:http://jmshockey.com/games/13659
LOCATION:Eden Prairie Comm Ctr
SUMMARY:Intermediate Game at Eden Prairie Comm Ctr
CLASS:PUBLIC
DTSTAMP:20260421T092909Z
END:VEVENT
END:VCALENDAR