BEGIN:VCALENDAR
VERSION:2.0
PRODID:JMS Hockey
X-PUBLISHED-TTL:P1W
BEGIN:VEVENT
UID:69e7c6ffb07d3
DTSTART:20100324T013000Z
SEQUENCE:0
TRANSP:OPAQUE
DTEND:20100324T030000Z
URL:http://jmshockey.com/games/1361
LOCATION:Plymouth Ice Center
SUMMARY:Level 3 Game at Plymouth Ice Center
CLASS:PUBLIC
DTSTAMP:20260421T135039Z
END:VEVENT
END:VCALENDAR