BEGIN:VCALENDAR
VERSION:2.0
PRODID:JMS Hockey
X-PUBLISHED-TTL:P1W
BEGIN:VEVENT
UID:69e7b5a0bbb5f
DTSTART:20100320T020000Z
SEQUENCE:0
TRANSP:OPAQUE
DTEND:20100320T033000Z
URL:http://jmshockey.com/games/1353
LOCATION:Eden Prairie Comm Ctr
SUMMARY:Level 3 Game at Eden Prairie Comm Ctr
CLASS:PUBLIC
DTSTAMP:20260421T123632Z
END:VEVENT
END:VCALENDAR