BEGIN:VCALENDAR
VERSION:2.0
PRODID:JMS Hockey
X-PUBLISHED-TTL:P1W
BEGIN:VEVENT
UID:69eaf0d298162
DTSTART:20211120T041500Z
SEQUENCE:0
TRANSP:OPAQUE
DTEND:20211120T054500Z
URL:http://jmshockey.com/games/13517
LOCATION:Roseville Skating Center
SUMMARY:Lower Level Game at Roseville Skating Center
CLASS:PUBLIC
DTSTAMP:20260423T232554Z
END:VEVENT
END:VCALENDAR