BEGIN:VCALENDAR
VERSION:2.0
PRODID:JMS Hockey
X-PUBLISHED-TTL:P1W
BEGIN:VEVENT
UID:69e7ae10885b5
DTSTART:20210928T020000Z
SEQUENCE:0
TRANSP:OPAQUE
DTEND:20210928T030000Z
URL:http://jmshockey.com/games/13494
LOCATION:Doug Woog Arena (Wakota)
SUMMARY:Lower Level Game at Doug Woog Arena (Wakota)
CLASS:PUBLIC
DTSTAMP:20260421T120416Z
END:VEVENT
END:VCALENDAR