BEGIN:VCALENDAR
VERSION:2.0
PRODID:JMS Hockey
X-PUBLISHED-TTL:P1W
BEGIN:VEVENT
UID:69e7b58e07d5f
DTSTART:20100320T013000Z
SEQUENCE:0
TRANSP:OPAQUE
DTEND:20100320T030000Z
URL:http://jmshockey.com/games/1348
LOCATION:St Louis Park Rec Center
SUMMARY:Level 1 Game at St Louis Park Rec Center
CLASS:PUBLIC
DTSTAMP:20260421T123614Z
END:VEVENT
END:VCALENDAR