BEGIN:VCALENDAR
VERSION:2.0
PRODID:JMS Hockey
X-PUBLISHED-TTL:P1W
BEGIN:VEVENT
UID:69e7b5e847135
DTSTART:20211009T021500Z
SEQUENCE:0
TRANSP:OPAQUE
DTEND:20211009T034500Z
URL:http://jmshockey.com/games/13456
LOCATION:St Louis Park Rec Center
SUMMARY:Novice Game at St Louis Park Rec Center
CLASS:PUBLIC
DTSTAMP:20260421T123744Z
END:VEVENT
END:VCALENDAR