BEGIN:VCALENDAR
VERSION:2.0
PRODID:JMS Hockey
X-PUBLISHED-TTL:P1W
BEGIN:VEVENT
UID:69e79a5eb683a
DTSTART:20211013T031500Z
SEQUENCE:0
TRANSP:OPAQUE
DTEND:20211013T044500Z
URL:http://jmshockey.com/games/13421
LOCATION:Maple Grove
SUMMARY:Intermediate Game at Maple Grove
CLASS:PUBLIC
DTSTAMP:20260421T104014Z
END:VEVENT
END:VCALENDAR